BEGIN:VCALENDAR
VERSION:2.0
PRODID:-//Tukios.com/
BEGIN:VEVENT
UID:10ce0a95-4b36-4193-b3e6-bf8c9daeee00@www.hardisonfuneralhomes.com
DTSTAMP:20260426T005254Z
DTSTART:20260504T200000Z
DTEND:20260504T230000Z
SUMMARY:Visitation
DESCRIPTION:
URL:https://www.hardisonfuneralhomes.com/obituaries/ronald-kam
LOCATION: 338 Lake Street  Wilson NY 14172
GEO:43.3086615;-78.825683
END:VEVENT
END:VCALENDAR