BEGIN:VCALENDAR
VERSION:2.0
PRODID:-//Tukios.com/
BEGIN:VEVENT
UID:cc6e57f7-8abe-4914-9bc3-2989c73ecc9a@www.hardisonfuneralhomes.com
DTSTAMP:20260426T004425Z
DTSTART:20260505T140000Z
DTEND:20260505T150000Z
SUMMARY:Funeral Service
DESCRIPTION:
URL:https://www.hardisonfuneralhomes.com/obituaries/ronald-kam
LOCATION: 338 Lake Street  Wilson NY 14172
GEO:43.3086615;-78.825683
END:VEVENT
END:VCALENDAR